BEGIN:VCALENDAR
VERSION:2.0
PRODID:-//ChamberMaster//Event Calendar 2.0//EN
METHOD:PUBLISH
X-PUBLISHED-TTL:P3D
REFRESH-INTERVAL:P3D
CALSCALE:GREGORIAN
BEGIN:VEVENT
DTSTART:20201112T170000Z
DTEND:20201112T180000Z
X-MICROSOFT-CDO-ALLDAYEVENT:FALSE
SUMMARY:Women of Innovation® 2020
DESCRIPTION:Now in its 16th year\, the annual Women of Innovation  program recognizes women innovators\, role models\, and leaders in science and technology\, including outstanding young women at the high school and collegiate levels pursuing technology professions.\n\nCreating and expanding a vibrant network of more than 750 women throughout Connecticut\, these outstanding women will be recognized for their great achievements and excellence in the STEM fields.\n\n\n\nMeet the 2020 Women of Innovation  Finalists\n\nWomen of Innovation  2020 is a proud collaboration between the Connecticut Technology Council (CTC) and the Connecticut Center for Advanced Technology\, Inc. (CCAT).
X-ALT-DESC;FMTTYPE=text/html:<p class="has-text-align-center" style="border: 0px\; font-family: &quot\;Open Sans&quot\;\, sans-serif\; margin: 0px 0px 15px\; outline: 0px\; padding: 0px\; vertical-align: baseline\; color: rgb(119\, 119\, 119)\;">Now in its 16th year\, the annual Women of Innovation&reg\; program recognizes women innovators\, role models\, and leaders in science and technology\, including outstanding young women at the high school and collegiate levels pursuing technology professions.</p>\n\n<p class="has-text-align-center" style="border: 0px\; font-family: &quot\;Open Sans&quot\;\, sans-serif\; margin: 0px 0px 15px\; outline: 0px\; padding: 0px\; vertical-align: baseline\; color: rgb(119\, 119\, 119)\;">Creating and expanding a vibrant network of more than 750 women throughout Connecticut\, these outstanding women will be recognized for their great achievements and excellence in the STEM fields.<br />\n<br />\n<span style="color:#757575\;"><span style="font-family:helvetica\,sans-serif\;"><span style="font-size:10.5pt\;"><a href="https://ct.us11.list-manage.com/track/click?u=8105c25cb91f33ed884f43ddf&amp\;id=f734cb128f&amp\;e=261779b50f"><strong data-slate-leaf="true"><span style="color:#007c89\;">Meet the 2020 Women of Innovation&reg\; Finalists</span></strong></a></span></span></span></p>\n\n<p class="has-text-align-center" style="border: 0px\; font-family: &quot\;Open Sans&quot\;\, sans-serif\; margin: 0px 0px 15px\; outline: 0px\; padding: 0px\; vertical-align: baseline\; color: rgb(119\, 119\, 119)\;">Women of Innovation&reg\; 2020 is a proud collaboration between the Connecticut Technology Council (CTC) and the Connecticut Center for Advanced Technology\, Inc. (CCAT).</p>\n
LOCATION:Online
UID:e.9502.471
SEQUENCE:3
DTSTAMP:20260423T020800Z
URL:https://tech.ct.org/events/details/women-of-innovation-2020-471
END:VEVENT

END:VCALENDAR
