BEGIN:VCALENDAR
VERSION:2.0
PRODID:-//ChamberMaster//Event Calendar 2.0//EN
METHOD:PUBLISH
X-PUBLISHED-TTL:P3D
REFRESH-INTERVAL:P3D
CALSCALE:GREGORIAN
BEGIN:VEVENT
DTSTART:20190124T130000Z
DTEND:20190124T150000Z
X-MICROSOFT-CDO-ALLDAYEVENT:FALSE
SUMMARY:2019 CEO Peer-to-Peer Group
DESCRIPTION:The CEO Peer-to-Peer Group is intended to harness the collective experience of the participating executives to solve business problems\, build trust among peers\, and accelerate company growth. Subject matter experts are occasionally invited to present on topics of interest to the CEOs. These monthly meetings are facilitated by CTC staff and are confidential.\n\n\n\nIf you are interested in more information about joining this group\, please contact us.
X-ALT-DESC;FMTTYPE=text/html:The CEO Peer-to-Peer Group is intended to harness the collective experience of the participating executives to solve business problems\, build trust among peers\, and accelerate company growth. Subject matter experts are occasionally invited to present on topics of interest to the CEOs. These monthly meetings are facilitated by CTC staff and are confidential.<br>\n<br>\nIf you are interested in more information about joining this group\, please <a href="mailto:crice@ct.org?subject=CEO%20Peer%20to%20Peer%20Group">contact us</a>.&nbsp\;
LOCATION:
UID:e.9502.420
SEQUENCE:3
DTSTAMP:20260423T012140Z
URL:https://tech.ct.org/events/details/2019-ceo-peer-to-peer-group-420
END:VEVENT

END:VCALENDAR
